BEGIN:VCALENDAR
VERSION:2.0
PRODID:-//wp-events-plugin.com//7.2.3.1//EN
TZID:America/Edmonton
X-WR-TIMEZONE:America/Edmonton
BEGIN:VEVENT
UID:176@everydayglutenfreegourmet.ca
DTSTART:20241127T180000Z
DTEND:20241127T210000Z
DTSTAMP:20240926T235055Z
URL:https://everydayglutenfreegourmet.ca/events/in-person-class-gluten-fre
 e-holiday-cookies/
SUMMARY:In-person class: Gluten Free Holiday Cookies
DESCRIPTION:For this in-person class we'll make gluten free shortbread\, gi
 ngerbread\, a bar cookie and a no-bake cookie. You'll learn tips for all k
 inds of cookies\, get to taste everything and take it all home.
CATEGORIES:In Person Class
LOCATION:Everyday Gluten Free Gourmet Kitchen\, 7 Hartford Rd NW\, Calgary 
 \, Alberta\, T2K 2A4\, Canada
X-APPLE-STRUCTURED-LOCATION;VALUE=URI;X-ADDRESS=7 Hartford Rd NW\, Calgary 
 \, Alberta\, T2K 2A4\, Canada;X-APPLE-RADIUS=100;X-TITLE=Everyday Gluten F
 ree Gourmet Kitchen:geo:0,0
END:VEVENT
END:VCALENDAR