BEGIN:VCALENDAR
VERSION:2.0
PRODID:-//wp-events-plugin.com//7.2.3.1//EN
TZID:America/Edmonton
X-WR-TIMEZONE:America/Edmonton
BEGIN:VEVENT
UID:91@everydayglutenfreegourmet.ca
DTSTART:20220323T183000Z
DTEND:20220323T200000Z
DTSTAMP:20220313T203904Z
URL:https://everydayglutenfreegourmet.ca/events/march-23-630-800-pm-beauti
 ful-buttermilk-biscuits/
SUMMARY:March 23\, 6:30 – 8:00 pm: Beautiful Buttermilk Biscuits
DESCRIPTION:In this VIRTUAL cooking class we're making beautiful Buttermilk
  Biscuits\, just like the fluffy ones your mom made! Learn the New Basics 
 for gluten free bakers\, tricks for the best biscuits and ways to vary thi
 s recipe.\nSIGN UP with a friend\, in person or virtually.\nClass notes an
 d additional resources will be emailed to you when you register.
CATEGORIES:Online Cooking Class
END:VEVENT
END:VCALENDAR