BEGIN:VCALENDAR
VERSION:2.0
PRODID:-//wp-events-plugin.com//7.2.3.1//EN
TZID:America/Edmonton
X-WR-TIMEZONE:America/Edmonton
BEGIN:VEVENT
UID:68@everydayglutenfreegourmet.ca
DTSTART:20211103T183000Z
DTEND:20211103T200000Z
DTSTAMP:20211030T174900Z
URL:https://everydayglutenfreegourmet.ca/events/november-3-630-800-p-m-mt-
 gluten-free-biscuits/
SUMMARY:November 3 – 6:30 – 8:00 p.m. MT – Gluten Free Biscuits
DESCRIPTION:\nIf you miss warm\, fluffy\, homemade biscuits this is the cla
 ss for you! Learn the New Basics for gluten free bakers so you can make ch
 eese biscuits\, cinnamon rolls\, pizza rolls or a biscuit pizza\, strawber
 ry shortcake and so much more. Invite a friend to join you\, it's $25 per 
 kitchen.\n\n\n\nShopping list\, prep notes and recipes will be emailed to 
 you when you register. This class is 90 minutes. \n[gallery columns="4" i
 ds="5268\,649\,2017\,4591"]\n
ATTACH;FMTTYPE=image/jpeg:https://everydayglutenfreegourmet.ca/wp-content/
 uploads/2020/10/Cinde-Welcome-to-my-kitchen.jpg
CATEGORIES:Online Cooking Class
END:VEVENT
END:VCALENDAR