BEGIN:VCALENDAR
VERSION:2.0
PRODID:-//wp-events-plugin.com//7.2.3.1//EN
TZID:America/Edmonton
X-WR-TIMEZONE:America/Edmonton
BEGIN:VEVENT
UID:69@everydayglutenfreegourmet.ca
DTSTART:20211106T103000Z
DTEND:20211106T120000Z
DTSTAMP:20211030T173647Z
URL:https://everydayglutenfreegourmet.ca/events/november-6-1030-am-1200-p-
 m-mt-master-gluten-free-pastry/
SUMMARY:November 6 – 10:30 am – 12:00 p.m. MT – Master Gluten Free Pa
 stry
DESCRIPTION:Just in time for the holidays! Master gluten free pastry so you
  can make sweet or savoury hand pies\, mincemeat tarts\, pot pies\, quiche
  and that savoury French Canadian Tourtiere. We'll cover the New Basics fo
 r gluten free pastry and you'll be eating pie by the end of the class.\nSh
 opping list\, prep notes and recipes will be emailed when you register. Th
 is class is 90 minutes. Cost $25 per kitchen.\n[gallery columns="4" ids="1
 35\,285\,4103\,284"]
ATTACH;FMTTYPE=image/jpeg:https://everydayglutenfreegourmet.ca/wp-content/
 uploads/2020/01/Cooking-Class-Oct25.jpg
CATEGORIES:Online Cooking Class
END:VEVENT
END:VCALENDAR