BEGIN:VCALENDAR
VERSION:2.0
PRODID:-//wp-events-plugin.com//7.2.3.1//EN
TZID:America/Edmonton
X-WR-TIMEZONE:America/Edmonton
BEGIN:VEVENT
UID:71@everydayglutenfreegourmet.ca
DTSTART:20211124T183000Z
DTEND:20211124T200000Z
DTSTAMP:20211109T143618Z
URL:https://everydayglutenfreegourmet.ca/events/shortbread-gingerbread-coo
 kies-november-24-630-800-p-m-mt/
SUMMARY:Shortbread & Gingerbread Cookies – November 24 – 6:30-8:00 p.m.
  MT
DESCRIPTION:Do you have gluten free recipes of all your favourite holiday c
 ookies? That's what this virtual class is all about. We're making whipped 
 shortbread and gingerbread cookies. While we bake we'll talk about the 'ne
 w basics' for gluten free bakers so you can be successful with your holida
 y baking. Dig out the cookie cutters and register today. \nShopping list\,
  prep notes and recipes will be emailed when you register. This class is 9
 0 minutes. Cost $25 per kitchen so you can bake with a friend if you like.
 \n[gallery ids="294\,462\,526"]
ATTACH;FMTTYPE=image/jpeg:https://everydayglutenfreegourmet.ca/wp-content/
 uploads/2019/07/gingerbread-men.jpg
CATEGORIES:Online Cooking Class
END:VEVENT
END:VCALENDAR